BEGIN:VCALENDAR
VERSION:2.0
PRODID:-//Document Database Community - ECPv6.15.20//NONSGML v1.0//EN
CALSCALE:GREGORIAN
METHOD:PUBLISH
X-WR-CALNAME:Document Database Community
X-ORIGINAL-URL:https://documentdatabase.org
X-WR-CALDESC:Events for Document Database Community
REFRESH-INTERVAL;VALUE=DURATION:PT1H
X-Robots-Tag:noindex
X-PUBLISHED-TTL:PT1H
BEGIN:VTIMEZONE
TZID:America/New_York
BEGIN:DAYLIGHT
TZOFFSETFROM:-0500
TZOFFSETTO:-0400
TZNAME:EDT
DTSTART:20230312T070000
END:DAYLIGHT
BEGIN:STANDARD
TZOFFSETFROM:-0400
TZOFFSETTO:-0500
TZNAME:EST
DTSTART:20231105T060000
END:STANDARD
BEGIN:DAYLIGHT
TZOFFSETFROM:-0500
TZOFFSETTO:-0400
TZNAME:EDT
DTSTART:20240310T070000
END:DAYLIGHT
BEGIN:STANDARD
TZOFFSETFROM:-0400
TZOFFSETTO:-0500
TZNAME:EST
DTSTART:20241103T060000
END:STANDARD
BEGIN:DAYLIGHT
TZOFFSETFROM:-0500
TZOFFSETTO:-0400
TZNAME:EDT
DTSTART:20250309T070000
END:DAYLIGHT
BEGIN:STANDARD
TZOFFSETFROM:-0400
TZOFFSETTO:-0500
TZNAME:EST
DTSTART:20251102T060000
END:STANDARD
END:VTIMEZONE
BEGIN:VEVENT
DTSTART;TZID=America/New_York:20240221T120000
DTEND;TZID=America/New_York:20240221T130000
DTSTAMP:20260423T140426
CREATED:20240209T125210Z
LAST-MODIFIED:20240306T124213Z
UID:1395-1708516800-1708520400@documentdatabase.org
SUMMARY:NoSQL Databases From a Relational Database Admin
DESCRIPTION:NoSQL Databases From a Relational Database Admin\n			\n				\n				\n				\n				\n				Patrick Galbraith\n			\n			\n				\n				\n				\n				\n				\n			\n				\n				\n				\n				\n			\n				\n				\n				\n				\n				\n				\n				\n				\n				\n				\n				\n					\n					\n						The meetup has ended\n						\n					\n				\n			\n				Watch on demand\n			\n			\n				\n				\n				\n				\n			\n				\n				\n			\n				\n				\n				\n				\n				\n				\n				\n				\n				\n				\n				\n				\n				\n				\n				\n				\n				\n				Join us for a webinar where Patrick Galbraith\, a seasoned Principal Consultant\, will share his journey of transitioning from a Relational Database Administrator to proficiently managing NoSQL Document Databases. Patrick will delve into his experiences\, offering valuable insights on optimization\, administration\, and deployment strategies for NoSQL databases. \n			\n				\n				\n				\n				\n				This webinar is tailored for relational database admins and developers seeking to broaden their understanding of NoSQL. Patrick will highlight the similarities and differences between relational and non-relational databases\, equipping attendees with the knowledge to make informed decisions when considering NoSQL solutions. \n			\n				\n				\n				\n				\n				Agenda:\n			\n				\n				\n				\n				\n				\n				\n				\n					\n				\n				\n				\n				\n				EPatrick's experience and expertise in navigating NoSQL environments.\n			\n				\n				\n				\n				\n				EIntroduction to Non-relational (NoSQL) databases and their significance\n			\n				\n				\n				\n				\n				EExploring the advantages and drawbacks of SQL versus NoSQL paradigms\n			\n				\n				\n				\n				\n				EDeployment considerations for NoSQL databases\n			\n				\n				\n				\n				\n				EUnderstanding the nature of data stored in NoSQL databases and its organizational structure\n			\n				\n				\n				\n				\n				EClarifying essential terminology: queries\, statements\, and coding practices in NoSQL environments\n			\n				\n				\n				\n				\n				EStrategies for optimizing NoSQL queries to enhance performance\n			\n				\n				\n				\n				\n				EInteractive Q&A session to address specific queries and concerns\n			\n				\n			\n				\n				\n				\n				\n				The meetup has ended. The recording is available exclusively for registered users. \n			\n			\n				\n				\n				\n				\n			\n				\n				\n				\n				\n				\n				\n				Watch on demand\n			\n			\n				\n				\n				\n				\n			\n				\n				\n			\n				\n				\n				\n				\n				\n				\n				\n				\n				\n				\n				\n				\n				\n				\n				\n				\n				\n				About the Speaker\n			\n			\n				\n				\n				\n				\n			\n				\n				\n				\n				\n				\n				\n				\n				\n				\n				\n				\n			\n			\n				\n				\n				\n				\n				\n				\n				\n				\n				\n				Patrick Galbraith\n			\n				\n				\n				\n				\n				Principal Consultant  \n			\n				\n				\n				\n				\n				Meet Patrick Galbraith\, the Principal Consultant\, who brings a wealth of practical knowledge and hands-on experience in database management. With a distinguished career that includes collaborating with esteemed teams such as Slashdot\, Classmates\, MySQL\, Lycos\, HP\, Oracle\, and Parler\, Patrick is a seasoned industry expert. Don’t miss this opportunity to gain valuable insights into the world of NoSQL from such a seasoned professional. \n			\n			\n				\n				\n				\n				\n			\n				\n				\n			\n				\n				\n				\n				\n				\n				\n				\n				\n				\n				\n				\n				\n				\n				\n				\n				\n				\n				\n			\n			\n				\n				\n				\n				\n				\n				\n				\n				\n				\n				Related Events\n			\n			\n				\n				\n				\n				\n				\n				\n				\n				\n				\n				\n			\n			\n				\n				\n				\n				\n			\n				\n				\n				\n				\n				\n				\n				\n				\n				\n				\n				There are no upcoming events at this time
URL:https://documentdatabase.org/event/nosql-databases-from-a-relational-database-admin/
LOCATION:Online
ATTACH;FMTTYPE=image/png:https://documentdatabase.org/wp-content/uploads/2024/02/Speaker-DDC1.ai_.png
END:VEVENT
END:VCALENDAR