BEGIN:VCALENDAR
VERSION:2.0
PRODID:-//Document Database Community - ECPv6.15.20//NONSGML v1.0//EN
CALSCALE:GREGORIAN
METHOD:PUBLISH
X-ORIGINAL-URL:https://documentdatabase.org
X-WR-CALDESC:Events for Document Database Community
REFRESH-INTERVAL;VALUE=DURATION:PT1H
X-Robots-Tag:noindex
X-PUBLISHED-TTL:PT1H
BEGIN:VTIMEZONE
TZID:America/New_York
BEGIN:DAYLIGHT
TZOFFSETFROM:-0500
TZOFFSETTO:-0400
TZNAME:EDT
DTSTART:20220313T070000
END:DAYLIGHT
BEGIN:STANDARD
TZOFFSETFROM:-0400
TZOFFSETTO:-0500
TZNAME:EST
DTSTART:20221106T060000
END:STANDARD
BEGIN:DAYLIGHT
TZOFFSETFROM:-0500
TZOFFSETTO:-0400
TZNAME:EDT
DTSTART:20230312T070000
END:DAYLIGHT
BEGIN:STANDARD
TZOFFSETFROM:-0400
TZOFFSETTO:-0500
TZNAME:EST
DTSTART:20231105T060000
END:STANDARD
BEGIN:DAYLIGHT
TZOFFSETFROM:-0500
TZOFFSETTO:-0400
TZNAME:EDT
DTSTART:20240310T070000
END:DAYLIGHT
BEGIN:STANDARD
TZOFFSETFROM:-0400
TZOFFSETTO:-0500
TZNAME:EST
DTSTART:20241103T060000
END:STANDARD
END:VTIMEZONE
BEGIN:VEVENT
DTSTART;TZID=America/New_York:20230523T120000
DTEND;TZID=America/New_York:20230523T130000
DTSTAMP:20260421T171020
CREATED:20230306T205700Z
LAST-MODIFIED:20240201T155444Z
UID:434-1684843200-1684846800@documentdatabase.org
SUMMARY:Document Databases with Convergence of Graph and Stream
DESCRIPTION:Document Databases with Convergence of Graph and Stream\n			\n				\n				\n				\n				\n				Sachin Sinha\n			\n				\n				\n				\n				\n				Founder\, CEO and DeveloperBangDB \n			\n			\n				\n				\n				\n				\n				\n			\n				\n				\n				\n				\n			\n				\n				\n				\n				\n				\n				\n				\n				\n				\n				\n				\n					\n					\n						The meetup has ended. \n						\n					\n				\n			\n			\n				\n				\n				\n				\n			\n				\n				\n				\n				\n				\n				\n				Watch on demand\n			\n			\n				\n				\n				\n				\n			\n				\n				\n			\n				\n				\n				\n				\n				\n				\n				\n				\n				\n				\n				\n				\n				\n				\n				\n				\n				\n				About the Webinar\n			\n				\n				\n				\n				\n				There is a rapid trend going on which is changing the way data is generated\, processed\, and consumed. \n\nFast-moving data from devices and machines dominating landscape\nData mostly unstructured and streaming from various sources\nData largely connected and require real-time processing\n\nMost of the emerging use cases deal with more than one kind of data at the same time. \n			\n				\n				\n				\n				\n				 \n \nDocument database has been at the forefront of providing a flexible way to deal with unstructured data. But the emerging challenge is posing a convergence of different challenges. Therefore\, we must also converge the solution space by adding Graph\, Stream Processing\, and AI to the document database in order to provide a simple and effective method to enable these modern use cases. \n  \n			\n			\n				\n				\n				\n				\n			\n				\n				\n				\n				\n				\n				\n				\n				\n				\n				\n				The Agenda\n			\n				\n				\n				\n				\n				1. Ongoing data trend and need to convergence of different systems into a document database. \n2. Deep dive into the converged database\, design\, architecture\, challenges\, numbers etc… \n3. Deployment\, API etc to use it (possibly a quick demo). \n4. Q&A Live Session. \n			\n			\n				\n				\n				\n				\n			\n				\n				\n				\n				\n				\n				\n				\n				\n				\n				\n				\n				\n					The webinar was a fascinating insight into the world of data storage and analysis\, showcasing the power of innovative convergence to unlock new levels of efficiency and understanding.  \nJoin 150+ developers who have already been registered to discuss the topic online. \n					Peter Farkas\, CEO FerretDB\n					 \n				\n			\n			\n				\n				\n				\n				\n			\n				\n				\n				\n				\n				\n				\n				\n				\n				\n				\n				The meetup has ended. Watch the video recording.\n			\n				Watch on demand\n			\n			\n				\n				\n				\n				\n			\n				\n				\n			\n				\n				\n				\n				\n				\n				\n				\n				\n				\n				\n				\n				\n				\n				\n				\n				\n				\n				About the Speaker\n			\n			\n				\n				\n				\n				\n			\n				\n				\n				\n				\n				\n				\n				\n				\n				\n				\n				\n			\n			\n				\n				\n				\n				\n				\n				\n				\n				\n				\n				Sachin Sinha\n			\n				\n				\n				\n				\n				Founder\, CEO and DeveloperBangDB \n			\n				\n				\n				\n				\n				Sachin is a technology enthusiast with over 20 years of experience in designing and building software products for large-scale systems. Sachin has authored BangDB\, a high-performance converged NoSQL database for Real-Time data processing and analytics for emerging use cases. Prior to founding BangDB\, Sachin worked at senior levels at Amazon and Microsoft in database and analytics products. Sachin has been an active participant in the database domain and has published papers\, and research work items along with several patents in the core database and file systems areas. He is B.tech from IIT Kanpur and lives in Bangalore\, India.  \n			\n			\n				\n				\n				\n				\n			\n				\n				\n			\n				\n				\n				\n				\n				\n				\n				\n				\n				\n				\n				\n				\n				\n				\n				\n				\n				\n				\n			\n			\n				\n				\n				\n				\n				\n				\n				\n				\n				\n				Related Events\n			\n			\n				\n				\n				\n				\n				\n				\n				\n				\n				\n				\n			\n			\n				\n				\n				\n				\n			\n				\n				\n				\n				\n				\n				\n				\n				\n				\n				\n				There are no upcoming events at this time
URL:https://documentdatabase.org/event/document-databases-with-convergence-of-graph-and-stream/
LOCATION:Online
ATTACH;FMTTYPE=image/png:https://documentdatabase.org/wp-content/uploads/2023/03/id-img-28.png
END:VEVENT
BEGIN:VEVENT
DTSTART;TZID=America/New_York:20230426T120000
DTEND;TZID=America/New_York:20230426T130000
DTSTAMP:20260421T171020
CREATED:20230222T155817Z
LAST-MODIFIED:20240201T133357Z
UID:191-1682510400-1682514000@documentdatabase.org
SUMMARY:Comparing CosmosDB \, DocumentDB\, MongoDB\, and FerretDB as Document Database for your stack
DESCRIPTION:Comparing CosmosDB \, DocumentDB\, MongoDB\, and FerretDB as Document Database for your stack\n			\n				\n				\n				\n				\n				David Murphy\n			\n				\n				\n				\n				\n				Database\, Cybersecurity\, and Operations SpecialistUdemy \n			\n				\n				\n				\n				\n				\n			\n			\n				\n				\n				\n				\n				\n			\n				\n				\n				\n				\n			\n				\n				\n				\n				\n				\n				\n				\n				\n				\n				\n				\n					\n					\n						Online\n						\n					\n				\n			\n			\n				\n				\n				\n				\n			\n				\n				\n				\n				\n				\n				\n				Watch on demand\n			\n			\n				\n				\n				\n				\n			\n				\n				\n			\n				\n				\n				\n				\n				\n				\n				\n				\n				\n				\n				\n				\n				\n				\n				\n				\n				\n				Comparison of DocumentDB\, CosmosDB\, MongoDB\, and FerretDB\, with each selling points\, comparison to each other tech\, pros and cons\, performance benchmarks & estimate cost based on a similar data set and pattern. \nIn this webinar\, David Murphy will share his insights and experiences in comparing CosmosDB\, DocumentDB\, MongoDB\, and FerretDB as document databases for your stack. He will compare their strengths and weaknesses in-depth\, helping you choose the right document database for your organization. So\, whether you’re a seasoned database professional or just starting in the field\, get ready to learn from his practical insights and unique perspective. \n  \n			\n				\n				\n				\n				\n				Agenda\n			\n				\n				\n				\n				\n				\nTechnology Benefits and Use Cases\nPros and Cons between each technology\nPerformance Benchmarks\nEstimated Costs\nConclusions and Recommendations\n\n  \n			\n				\n				\n				\n				\n				Book your seat at the online meetup or get the video directly to your inbox after the event. \n			\n			\n				\n				\n				\n				\n			\n				\n				\n				\n				\n				\n				\n				Watch on demand\n			\n			\n				\n				\n				\n				\n			\n				\n				\n			\n				\n				\n				\n				\n				\n				\n				\n				\n				\n				\n				\n				\n				\n				\n				\n				\n				\n				About the Speaker\n			\n			\n				\n				\n				\n				\n			\n				\n				\n				\n				\n				\n				\n				\n				\n				\n				\n				\n			\n			\n				\n				\n				\n				\n				\n				\n				\n				\n				\n				David Murphy\n			\n				\n				\n				\n				\n				Database\, Cybersecurity\, and Operations specialistUdemy \n			\n				\n				\n				\n				\n				David Murphy is the Principal DBRE Engineer at Udemy. With over two decades of experience in the technology industry\, he has worked with some of the biggest names in the business\, including Object Rocket\, Percona\, and EA. David’s expertise lies in database architecture\, performance optimization\, data security\, and cloud computing. He is passionate about helping organizations achieve their goals by providing scalable\, reliable\, and efficient solutions for their technology stack. \n			\n			\n				\n				\n				\n				\n			\n				\n				\n			\n				\n				\n				\n				\n				\n				\n				\n				\n				\n				\n				\n				\n				\n				\n				\n				\n				\n				\n			\n			\n				\n				\n				\n				\n				\n				\n				\n				\n				\n				Related Events\n			\n			\n				\n				\n				\n				\n				\n				\n				\n				\n				\n				\n			\n			\n				\n				\n				\n				\n			\n				\n				\n				\n				\n				\n				\n				\n				\n				\n				\n				There are no upcoming events at this time
URL:https://documentdatabase.org/event/comparing-cosmosdb-documentdb-and-ferretdb-as-document-database-for-your-stack/
LOCATION:Online
ATTACH;FMTTYPE=image/png:https://documentdatabase.org/wp-content/uploads/2023/02/DavidM.png
END:VEVENT
BEGIN:VEVENT
DTSTART;TZID=America/New_York:20230322T120000
DTEND;TZID=America/New_York:20230322T130000
DTSTAMP:20260421T171020
CREATED:20230221T144119Z
LAST-MODIFIED:20230801T174356Z
UID:88-1679486400-1679490000@documentdatabase.org
SUMMARY:Switching from relational to document models\, an introduction
DESCRIPTION:Switching from relational to document models\, an introduction\n			\n				\n				\n				\n				\n				Adamo Tonete\n			\n				\n				\n				\n				\n				MongoDB SMEAmach Software \n			\n				\n				\n				\n				\n				The basics\, common practices\, and common mistakes when migrating between different database styles. \n			\n			\n				\n				\n				\n				\n				\n			\n				\n				\n				\n				\n			\n				\n				\n				\n				\n				\n				\n				\n				\n				\n				\n				\n					\n					\n						The event has ended\n						\n					\n				\n			\n				Watch on Demand\n			\n			\n				\n				\n				\n				\n			\n				\n				\n			\n				\n				\n				\n				\n				\n				\n				\n				\n				\n				\n				\n				\n				\n				\n				\n				\n				\n				When migrating from a relational database to a document-database\, it’s common to have questions on how to organize your data in the new document oriented database. \nIf you have questions how you would combine several tables in different collections and how document-oriented databases expected you to save your data don’t miss this webinar. \nWe will discuss the basics\, common practices\, and mention common mistakes when migrating between different database styles. \n			\n			\n				\n				\n				\n				\n			\n				\n				\n			\n				\n				\n				\n				\n				\n				\n				\n				\n				\n				\n				\n				\n				\n				\n				\n				\n				\n				About Speaker\n			\n			\n				\n				\n				\n				\n			\n				\n				\n				\n				\n				\n				\n				\n				\n				\n				\n				\n			\n			\n				\n				\n				\n				\n				\n				\n				\n				\n				\n				Adamo Tonete\n			\n				\n				\n				\n				\n				MongoDB SMEAmach Software \n			\n				\n				\n				\n				\n				With decade of experience in NoSQL Databases\, Adamo have worked for different companies such as Percona\, MongoDB and PingCAP. Currently Adamo works as a MongoDB SME for an Irish company\, maintening a 24×7 system.He lives in Brazil and enjoys his free time with the family. \n			\n			\n				\n				\n				\n				\n			\n				\n				\n			\n				\n				\n				\n				\n				\n				\n				\n				\n				\n				\n				\n				\n				\n				\n				\n				\n				\n				\n			\n			\n				\n				\n				\n				\n				\n				\n				\n				\n				\n				Related Events\n			\n			\n				\n				\n				\n				\n				\n				\n				\n				\n				\n				\n			\n			\n				\n				\n				\n				\n			\n				\n				\n				\n				\n				\n				\n				\n				\n				\n				\n				There are no upcoming events at this time
URL:https://documentdatabase.org/event/switching-from-relational-to-document-models/
LOCATION:Online
ATTACH;FMTTYPE=image/png:https://documentdatabase.org/wp-content/uploads/2023/02/AdamoT.png
END:VEVENT
END:VCALENDAR