BEGIN:VCALENDAR
VERSION:2.0
PRODID:-//Document Database Community - ECPv6.15.20//NONSGML v1.0//EN
CALSCALE:GREGORIAN
METHOD:PUBLISH
X-ORIGINAL-URL:https://documentdatabase.org
X-WR-CALDESC:Events for Document Database Community
REFRESH-INTERVAL;VALUE=DURATION:PT1H
X-Robots-Tag:noindex
X-PUBLISHED-TTL:PT1H
BEGIN:VTIMEZONE
TZID:America/New_York
BEGIN:DAYLIGHT
TZOFFSETFROM:-0500
TZOFFSETTO:-0400
TZNAME:EDT
DTSTART:20230312T070000
END:DAYLIGHT
BEGIN:STANDARD
TZOFFSETFROM:-0400
TZOFFSETTO:-0500
TZNAME:EST
DTSTART:20231105T060000
END:STANDARD
BEGIN:DAYLIGHT
TZOFFSETFROM:-0500
TZOFFSETTO:-0400
TZNAME:EDT
DTSTART:20240310T070000
END:DAYLIGHT
BEGIN:STANDARD
TZOFFSETFROM:-0400
TZOFFSETTO:-0500
TZNAME:EST
DTSTART:20241103T060000
END:STANDARD
BEGIN:DAYLIGHT
TZOFFSETFROM:-0500
TZOFFSETTO:-0400
TZNAME:EDT
DTSTART:20250309T070000
END:DAYLIGHT
BEGIN:STANDARD
TZOFFSETFROM:-0400
TZOFFSETTO:-0500
TZNAME:EST
DTSTART:20251102T060000
END:STANDARD
END:VTIMEZONE
BEGIN:VEVENT
DTSTART;TZID=America/New_York:20241002T120000
DTEND;TZID=America/New_York:20241002T130000
DTSTAMP:20260422T074007
CREATED:20240920T060053Z
LAST-MODIFIED:20241115T122406Z
UID:2282-1727870400-1727874000@documentdatabase.org
SUMMARY:Pongo\, using PostgreSQL as a strongly-consistent Document Database
DESCRIPTION:Pongo\, using PostgreSQL as a strongly-consistent Document Database\n			\n				\n				\n				\n				\n				SPEAKER: Oskar Dudycz\n			\n				\n				\n				\n				\n				\n					\n					\n						The meetup has ended\n						\n					\n				\n			\n				Watch on demand\n			\n			\n				\n				\n				\n				\n				\n			\n				\n				\n				\n				\n			\n				\n				\n			\n				\n				\n				\n				\n				\n				\n				\n				\n				\n				\n				\n				\n				\n				\n				\n				\n				\n				Abstract:\n			\n				\n				\n				\n				\n				Are you tired of the consistency trade-offs inherent in document databases like MongoDB? Pongo offers a compelling alternative by leveraging PostgreSQL’s JSONB capabilities to provide a strongly consistent document database experience. \nJoin us for a hands-on demonstration\, during which we’ll explore how Pongo’s Node.js library seamlessly integrates with PostgreSQL. This allows you to enjoy the flexibility and ease of use of MongoDB while maintaining the robust guarantees of PostgreSQL. Discover why Pongo is the ideal choice for applications demanding high performance and strong data integrity. \n			\n				Watch on demand\n			\n			\n				\n				\n				\n				\n			\n				\n				\n			\n				\n				\n				\n				\n				\n				\n				\n				\n				\n				\n				\n				\n				\n				\n				\n				\n				\n				About the Speaker\n			\n			\n				\n				\n				\n				\n			\n				\n				\n				\n				\n				\n				\n				\n				\n				\n				\n				\n			\n			\n				\n				\n				\n				\n				\n				\n				\n				\n				\n				OSKAR DUDYCZ\n			\n				\n				\n				\n				\n				Event Sourcerer and .NET OSS practitioner \n			\n				\n				\n				\n				\n				Oskar Dudycz is a .NET expert specializing in Event Sourcing and CQRS. He’s passionate about building scalable and efficient systems and sharing his knowledge through open-source contributions. \n			\n			\n				\n				\n				\n				\n			\n				\n				\n			\n				\n				\n				\n				\n				\n				\n				\n				\n				\n				\n				\n				\n				\n				\n				\n				\n				\n				\n			\n			\n				\n				\n				\n				\n				\n				\n				\n				\n				\n				Related Events\n			\n			\n				\n				\n				\n				\n				\n				\n				\n				\n				\n				\n			\n			\n				\n				\n				\n				\n			\n				\n				\n				\n				\n				\n				\n				\n				\n				\n				\n				There are no upcoming events at this time
URL:https://documentdatabase.org/event/postgresql-doc-db/
LOCATION:Online
ATTACH;FMTTYPE=image/png:https://documentdatabase.org/wp-content/uploads/2024/09/SPEAKER-.png
END:VEVENT
END:VCALENDAR