BEGIN:VCALENDAR
VERSION:2.0
PRODID:-//Document Database Community - ECPv6.15.20//NONSGML v1.0//EN
CALSCALE:GREGORIAN
METHOD:PUBLISH
X-WR-CALNAME:Document Database Community
X-ORIGINAL-URL:https://documentdatabase.org
X-WR-CALDESC:Events for Document Database Community
REFRESH-INTERVAL;VALUE=DURATION:PT1H
X-Robots-Tag:noindex
X-PUBLISHED-TTL:PT1H
BEGIN:VTIMEZONE
TZID:America/New_York
BEGIN:DAYLIGHT
TZOFFSETFROM:-0500
TZOFFSETTO:-0400
TZNAME:EDT
DTSTART:20230312T070000
END:DAYLIGHT
BEGIN:STANDARD
TZOFFSETFROM:-0400
TZOFFSETTO:-0500
TZNAME:EST
DTSTART:20231105T060000
END:STANDARD
BEGIN:DAYLIGHT
TZOFFSETFROM:-0500
TZOFFSETTO:-0400
TZNAME:EDT
DTSTART:20240310T070000
END:DAYLIGHT
BEGIN:STANDARD
TZOFFSETFROM:-0400
TZOFFSETTO:-0500
TZNAME:EST
DTSTART:20241103T060000
END:STANDARD
BEGIN:DAYLIGHT
TZOFFSETFROM:-0500
TZOFFSETTO:-0400
TZNAME:EDT
DTSTART:20250309T070000
END:DAYLIGHT
BEGIN:STANDARD
TZOFFSETFROM:-0400
TZOFFSETTO:-0500
TZNAME:EST
DTSTART:20251102T060000
END:STANDARD
END:VTIMEZONE
BEGIN:VEVENT
DTSTART;TZID=America/New_York:20240904T120000
DTEND;TZID=America/New_York:20240904T130000
DTSTAMP:20260422T072401
CREATED:20240801T064646Z
LAST-MODIFIED:20240911T092034Z
UID:2225-1725451200-1725454800@documentdatabase.org
SUMMARY:A Key-Value Database Technology Remains Relevant in its Sixth Decade
DESCRIPTION:A Key-Value Database Technology Remains Relevant in its Sixth Decade\n			\n				\n				\n				\n				\n				SPEAKER: K.S. Bhaskar\n			\n				\n				\n				\n				\n				\n					\n					\n						The meetup has ended\n						\n					\n				\n			\n				Watch on demand\n			\n			\n				\n				\n				\n				\n				\n			\n				\n				\n				\n				\n			\n				\n				\n			\n				\n				\n				\n				\n				\n				\n				\n				\n				\n				\n				\n				\n				\n				\n				\n				\n				\n				Abstract:\n			\n				\n				\n				\n				\n				Join K.S. Bhaskar\, President of YottaDB\, as he explores the enduring power of key-value databases. This webinar will delve into the rich history of M technology\, the foundation upon which YottaDB is built. Discover how YottaDB has evolved to meet modern challenges while preserving its core strengths. Bhaskar will provide a live demonstration of YottaDB\, including a comparative analysis with Redis using JavaScript. Gain insights into the capabilities and performance of both technologies. \n			\n				Watch on demand\n			\n			\n				\n				\n				\n				\n			\n				\n				\n			\n				\n				\n				\n				\n				\n				\n				\n				\n				\n				\n				\n				\n				\n				\n				\n				\n				\n				About the Speaker\n			\n			\n				\n				\n				\n				\n			\n				\n				\n				\n				\n				\n				\n				\n				\n				\n				\n				\n			\n			\n				\n				\n				\n				\n				\n				\n				\n				\n				\n				K.S. Bhaskar\n			\n				\n				\n				\n				\n				President of YottaDB \n			\n				\n				\n				\n				\n				Born in the late 1960s\, MUMPS (Massachusetts General Hospital Utility Multiprogramming System) was the second database technology and tightly coupled a procedural language with a hierarchical key-value database. XML and JSON both map intuitively onto the hierarchical key-value database\, known today as M\, which is widely used in mission-critical applications like core-banking and electronic health records. YottaDB (https://yottadb.com) tightly couples an M database with multiple programming language APIs and is likely the fastest key-value database on Linux.  \n			\n			\n				\n				\n				\n				\n			\n				\n				\n			\n				\n				\n				\n				\n				\n				\n				\n				\n				\n				\n				\n				\n				\n				\n				\n				\n				\n				\n			\n			\n				\n				\n				\n				\n				\n				\n				\n				\n				\n				Related Events\n			\n			\n				\n				\n				\n				\n				\n				\n				\n				\n				\n				\n			\n			\n				\n				\n				\n				\n			\n				\n				\n				\n				\n				\n				\n				\n				\n				\n				\n				There are no upcoming events at this time
URL:https://documentdatabase.org/event/a-key-value-database-technology-remains-relevant-in-its-sixth-decade/
LOCATION:Online
ATTACH;FMTTYPE=image/png:https://documentdatabase.org/wp-content/uploads/2024/08/Speaker-DDC1.ai-1.png
END:VEVENT
END:VCALENDAR