BEGIN:VCALENDAR
VERSION:2.0
PRODID:-//Document Database Community - ECPv6.15.20//NONSGML v1.0//EN
CALSCALE:GREGORIAN
METHOD:PUBLISH
X-WR-CALNAME:Document Database Community
X-ORIGINAL-URL:https://documentdatabase.org
X-WR-CALDESC:Events for Document Database Community
REFRESH-INTERVAL;VALUE=DURATION:PT1H
X-Robots-Tag:noindex
X-PUBLISHED-TTL:PT1H
BEGIN:VTIMEZONE
TZID:America/New_York
BEGIN:DAYLIGHT
TZOFFSETFROM:-0500
TZOFFSETTO:-0400
TZNAME:EDT
DTSTART:20230312T070000
END:DAYLIGHT
BEGIN:STANDARD
TZOFFSETFROM:-0400
TZOFFSETTO:-0500
TZNAME:EST
DTSTART:20231105T060000
END:STANDARD
BEGIN:DAYLIGHT
TZOFFSETFROM:-0500
TZOFFSETTO:-0400
TZNAME:EDT
DTSTART:20240310T070000
END:DAYLIGHT
BEGIN:STANDARD
TZOFFSETFROM:-0400
TZOFFSETTO:-0500
TZNAME:EST
DTSTART:20241103T060000
END:STANDARD
BEGIN:DAYLIGHT
TZOFFSETFROM:-0500
TZOFFSETTO:-0400
TZNAME:EDT
DTSTART:20250309T070000
END:DAYLIGHT
BEGIN:STANDARD
TZOFFSETFROM:-0400
TZOFFSETTO:-0500
TZNAME:EST
DTSTART:20251102T060000
END:STANDARD
END:VTIMEZONE
BEGIN:VEVENT
DTSTART;TZID=America/New_York:20240718T120000
DTEND;TZID=America/New_York:20240718T130000
DTSTAMP:20260421T203101
CREATED:20240618T062833Z
LAST-MODIFIED:20240911T092451Z
UID:2132-1721304000-1721307600@documentdatabase.org
SUMMARY:Data visualization difficulties in document databases
DESCRIPTION:Data visualization difficulties in document databases\n			\n				\n				\n				\n				\n				SPEAKER: Tatiana Krupenya\n			\n				\n				\n				\n				\n				\n					\n					\n						The meetup has ended\n						\n					\n				\n			\n				Watch on demand\n			\n			\n				\n				\n				\n				\n				\n			\n				\n				\n				\n				\n			\n				\n				\n			\n				\n				\n				\n				\n				\n				\n				\n				\n				\n				\n				\n				\n				\n				\n				\n				\n				\n				Abstract:\n			\n				\n				\n				\n				\n				Showing the data from a document-oriented database is easy\, isn’t it? We all love working with document-oriented databases. You can save everything you need there\, you don’t need to think about the data structure\, and you can view your data at any time as beautiful JSONs. What can go wrong? Actually\, nothing if you want to look at only one or two documents. However\, it can be tricky when you want to review tens or hundreds of documents simultaneously. At this moment\, you may start thinking about how to view them more conveniently. \n			\n				\n				\n				\n				\n				Modern reality drives the question of visualization documents even to more complicated areas: \n \n\nWhat if you need to analyze a set of unstructured documents? \nWhat if your database is not purely document-oriented but also has some relations? \nWhat if your documents have other documents or even collections of documents inside?\n\n \nThe questions are complex\, but you can always find workarounds. Let’s review the options and discuss the difficulties together in the talk. \n			\n				Watch on demand\n			\n			\n				\n				\n				\n				\n			\n				\n				\n			\n				\n				\n				\n				\n				\n				\n				\n				\n				\n				\n				\n				\n				\n				\n				\n				\n				\n				About the Speaker\n			\n			\n				\n				\n				\n				\n			\n				\n				\n				\n				\n				\n				\n				\n				\n				\n				\n				\n			\n			\n				\n				\n				\n				\n				\n				\n				\n				\n				\n				TATIANA KRUPENYA\n			\n				\n				\n				\n				\n				CEO – DBeaver (dbeaver.com) \n			\n				\n				\n				\n				\n				Tatiana Krupenya is the CEO of DBeaver Corporation\, a distinguished information technology company specializing in database management tools. With two decades of expertise in the field\, DBeaver Corporation continues to innovate and lead in the realm of IT solutions. \n			\n			\n				\n				\n				\n				\n			\n				\n				\n			\n				\n				\n				\n				\n				\n				\n				\n				\n				\n				\n				\n				\n				\n				\n				\n				\n				\n				\n			\n			\n				\n				\n				\n				\n				\n				\n				\n				\n				\n				Related Events\n			\n			\n				\n				\n				\n				\n				\n				\n				\n				\n				\n				\n			\n			\n				\n				\n				\n				\n			\n				\n				\n				\n				\n				\n				\n				\n				\n				\n				\n				There are no upcoming events at this time
URL:https://documentdatabase.org/event/data-visualization-difficulties-in-document-databases/
LOCATION:Online
ATTACH;FMTTYPE=image/png:https://documentdatabase.org/wp-content/uploads/2024/06/Speaker-DDC1.ai-1.png
END:VEVENT
END:VCALENDAR