BEGIN:VCALENDAR
VERSION:2.0
PRODID:-//Document Database Community - ECPv6.15.20//NONSGML v1.0//EN
CALSCALE:GREGORIAN
METHOD:PUBLISH
X-WR-CALNAME:Document Database Community
X-ORIGINAL-URL:https://documentdatabase.org
X-WR-CALDESC:Events for Document Database Community
REFRESH-INTERVAL;VALUE=DURATION:PT1H
X-Robots-Tag:noindex
X-PUBLISHED-TTL:PT1H
BEGIN:VTIMEZONE
TZID:America/New_York
BEGIN:DAYLIGHT
TZOFFSETFROM:-0500
TZOFFSETTO:-0400
TZNAME:EDT
DTSTART:20230312T070000
END:DAYLIGHT
BEGIN:STANDARD
TZOFFSETFROM:-0400
TZOFFSETTO:-0500
TZNAME:EST
DTSTART:20231105T060000
END:STANDARD
BEGIN:DAYLIGHT
TZOFFSETFROM:-0500
TZOFFSETTO:-0400
TZNAME:EDT
DTSTART:20240310T070000
END:DAYLIGHT
BEGIN:STANDARD
TZOFFSETFROM:-0400
TZOFFSETTO:-0500
TZNAME:EST
DTSTART:20241103T060000
END:STANDARD
BEGIN:DAYLIGHT
TZOFFSETFROM:-0500
TZOFFSETTO:-0400
TZNAME:EDT
DTSTART:20250309T070000
END:DAYLIGHT
BEGIN:STANDARD
TZOFFSETFROM:-0400
TZOFFSETTO:-0500
TZNAME:EST
DTSTART:20251102T060000
END:STANDARD
END:VTIMEZONE
BEGIN:VEVENT
DTSTART;TZID=America/New_York:20240508T120000
DTEND;TZID=America/New_York:20240508T130000
DTSTAMP:20260422T005520
CREATED:20240425T092428Z
LAST-MODIFIED:20240603T100232Z
UID:1942-1715169600-1715173200@documentdatabase.org
SUMMARY:Redis Alternatives Compared
DESCRIPTION:Redis Alternatives Compared\n			\n				\n				\n				\n				\n				SPEAKER: PETER ZAITSEV\n			\n			\n				\n				\n				\n				\n				\n			\n				\n				\n				\n				\n			\n				\n				\n				\n				\n				\n				\n				\n				\n				\n				\n				\n					\n					\n						The meetup has ended\n						\n					\n				\n			\n				Watch on demand\n			\n			\n				\n				\n				\n				\n			\n				\n				\n			\n				\n				\n				\n				\n				\n				\n				\n				\n				\n				\n				\n				\n				\n				\n				\n				\n				\n				Abstract:\n			\n				\n				\n				\n				\n				Is the changing Redis landscape leaving you confused? Join industry veteran Peter Zaitsev\, founder of Percona and co-author of “High Performance MySQL\,” for an in-depth exploration of top Redis alternatives. \n			\n				\n				\n				\n				\n				Peter will provide unbiased analysis of:\n			\n				\n				\n				\n				\n				\n				\n				\n					\n				\n				\n				\n				\n				^Emerging Redis forks like Valley and Redix\n			\n				\n				\n				\n				\n				^Established contenders like DragonflyDB and KeyDB\n			\n				\n				\n				\n				\n				^Unique options like Microsoft Garnet and Redka\n			\n				\n			\n				\n				\n				\n				\n				This deep dive covers:\n			\n				\n				\n				\n				\n				\n				\n				\n					\n				\n				\n				\n				\n				^Licensing models and implications\n			\n				\n				\n				\n				\n				^Feature sets and functionality comparisons\n			\n				\n				\n				\n				\n				^Governance and community support structures\n			\n				\n				\n				\n				\n				^Performance considerations for various use cases\n			\n				\n			\n				\n				\n				\n				\n				Gain clarity on:\n			\n				\n				\n				\n				\n				\n				\n				\n					\n				\n				\n				\n				\n				^How each alternative aligns with your specific needs\n			\n				\n				\n				\n				\n				^Open source compliance and licensing concerns\n			\n				\n				\n				\n				\n				^The importance of performance and support options\n			\n				\n			\n				\n				\n				\n				\n				The meetup has ended. The recording is available to watch on demand. \n			\n			\n				\n				\n				\n				\n			\n				\n				\n				\n				\n				\n				\n				Watch on demand\n			\n			\n				\n				\n				\n				\n			\n				\n				\n			\n				\n				\n				\n				\n				\n				\n				\n				\n				\n				\n				\n				\n				\n				\n				\n				\n				\n				About the Speakers\n			\n			\n				\n				\n				\n				\n			\n				\n				\n				\n				\n				\n				\n				\n				\n				\n				\n				\n			\n			\n				\n				\n				\n				\n				\n				\n				\n				\n				\n				Peter zaitsev\n			\n				\n				\n				\n				\n				Founder at Percona \n			\n				\n				\n				\n				\n				Peter Zaitsev is the visionary leader and founder at Percona\, a global leader in open source database solutions. Through his unparalleled expertise in open source strategy and database optimization\, Peter has transformed the technology landscape. Peter continues to lend his expertise to the open source community through board advisory roles and thought leadership. As co-author of the best-selling “High Performance MySQL: Optimization\, Backups\, and Replication”\, Peter is sought after for his singular insights on driving results through data. \n			\n			\n				\n				\n				\n				\n			\n				\n				\n			\n				\n				\n				\n				\n				\n				\n				\n				\n				\n				\n				\n				\n				\n				\n				\n				\n				\n				\n			\n			\n				\n				\n				\n				\n				\n				\n				\n				\n				\n				Related Events\n			\n			\n				\n				\n				\n				\n				\n				\n				\n				\n				\n				\n			\n			\n				\n				\n				\n				\n			\n				\n				\n				\n				\n				\n				\n				\n				\n				\n				\n				There are no upcoming events at this time
URL:https://documentdatabase.org/event/redis-alternatives-compared/
LOCATION:Online
ATTACH;FMTTYPE=image/png:https://documentdatabase.org/wp-content/uploads/2024/04/Speaker-DDC1.ai_.png
END:VEVENT
END:VCALENDAR