BEGIN:VCALENDAR
VERSION:2.0
PRODID:-//Document Database Community - ECPv6.15.20//NONSGML v1.0//EN
CALSCALE:GREGORIAN
METHOD:PUBLISH
X-WR-CALNAME:Document Database Community
X-ORIGINAL-URL:https://documentdatabase.org
X-WR-CALDESC:Events for Document Database Community
REFRESH-INTERVAL;VALUE=DURATION:PT1H
X-Robots-Tag:noindex
X-PUBLISHED-TTL:PT1H
BEGIN:VTIMEZONE
TZID:America/New_York
BEGIN:DAYLIGHT
TZOFFSETFROM:-0500
TZOFFSETTO:-0400
TZNAME:EDT
DTSTART:20230312T070000
END:DAYLIGHT
BEGIN:STANDARD
TZOFFSETFROM:-0400
TZOFFSETTO:-0500
TZNAME:EST
DTSTART:20231105T060000
END:STANDARD
BEGIN:DAYLIGHT
TZOFFSETFROM:-0500
TZOFFSETTO:-0400
TZNAME:EDT
DTSTART:20240310T070000
END:DAYLIGHT
BEGIN:STANDARD
TZOFFSETFROM:-0400
TZOFFSETTO:-0500
TZNAME:EST
DTSTART:20241103T060000
END:STANDARD
BEGIN:DAYLIGHT
TZOFFSETFROM:-0500
TZOFFSETTO:-0400
TZNAME:EDT
DTSTART:20250309T070000
END:DAYLIGHT
BEGIN:STANDARD
TZOFFSETFROM:-0400
TZOFFSETTO:-0500
TZNAME:EST
DTSTART:20251102T060000
END:STANDARD
END:VTIMEZONE
BEGIN:VEVENT
DTSTART;TZID=America/New_York:20240110T120000
DTEND;TZID=America/New_York:20240110T130000
DTSTAMP:20260421T141835
CREATED:20231212T161606Z
LAST-MODIFIED:20240306T150901Z
UID:1208-1704888000-1704891600@documentdatabase.org
SUMMARY:Global NoSQL Benchmark Framework: Embracing Real-World Performance
DESCRIPTION:Global NoSQL Benchmark Framework: Embracing Real-World Performance\n			\n				\n				\n				\n				\n				Filipe Oliveira\n			\n				\n				\n				\n				\n				Principal Performance Engineer at Redis \n			\n			\n				\n				\n				\n				\n				\n			\n				\n				\n				\n				\n			\n				\n				\n				\n				\n				\n				\n				\n				\n				\n				\n				\n					\n					\n						The meetup has ended\n						\n					\n				\n			\n				Watch on demand\n			\n			\n				\n				\n				\n				\n			\n				\n				\n			\n				\n				\n				\n				\n				\n				\n				\n				\n				\n				\n				\n				\n				\n				\n				\n				\n				\n				In this talk\, we describe a Multi-Region Benchmark Framework. Unlike single-zone benchmarks\, our solution mirrors real-world customer patterns globally\, considering diverse network conditions and device capabilities. \n			\n				\n				\n				\n				\n				We’ll provide practical examples to Identify and address performance disparities\, optimize scalability across regions\, and ensure your databases deliver consistent\, reliable performance worldwide. Don’t settle for single-zone limitations – Embrace a comprehensive approach for peak performance and reliability.  \n			\n				\n				\n				\n				\n				The meetup has ended. The recording is available exclusively for registered users. \n			\n			\n				\n				\n				\n				\n			\n				\n				\n				\n				\n				\n				\n				Watch on demand\n			\n			\n				\n				\n				\n				\n			\n				\n				\n			\n				\n				\n				\n				\n				\n				\n				\n				\n				\n				\n				\n				\n				\n				\n				\n				\n				\n				About the Speaker\n			\n			\n				\n				\n				\n				\n			\n				\n				\n				\n				\n				\n				\n				\n				\n				\n				\n				\n			\n			\n				\n				\n				\n				\n				\n				\n				\n				\n				\n				Filipe oliveira\n			\n				\n				\n				\n				\n				Principal Performance Engineer at Redis \n			\n				\n				\n				\n				\n				Filipe Oliveira is a Principal Performance Engineer at Redis\, working on both the enterprise and the open-source projects. Before Redis\, he worked both on a large scale retail company and as Grid and Distributed Computing Researcher recurring to advanced computing infrastructures listed in the TOP500 supercomputers list. \n			\n			\n				\n				\n				\n				\n			\n				\n				\n			\n				\n				\n				\n				\n				\n				\n				\n				\n				\n				\n				\n				\n				\n				\n				\n				\n				\n				\n			\n			\n				\n				\n				\n				\n				\n				\n				\n				\n				\n				Related Events\n			\n			\n				\n				\n				\n				\n				\n				\n				\n				\n				\n				\n			\n			\n				\n				\n				\n				\n			\n				\n				\n				\n				\n				\n				\n				\n				\n				\n				\n				There are no upcoming events at this time
URL:https://documentdatabase.org/event/global-nosql-benchmark/
LOCATION:Online
ATTACH;FMTTYPE=image/png:https://documentdatabase.org/wp-content/uploads/2023/12/DDC-Speaker-Featured-Image-2-Filipe.png
END:VEVENT
END:VCALENDAR