BEGIN:VCALENDAR
VERSION:2.0
PRODID:-//Document Database Community - ECPv6.15.20//NONSGML v1.0//EN
CALSCALE:GREGORIAN
METHOD:PUBLISH
X-WR-CALNAME:Document Database Community
X-ORIGINAL-URL:https://documentdatabase.org
X-WR-CALDESC:Events for Document Database Community
REFRESH-INTERVAL;VALUE=DURATION:PT1H
X-Robots-Tag:noindex
X-PUBLISHED-TTL:PT1H
BEGIN:VTIMEZONE
TZID:UTC
BEGIN:STANDARD
TZOFFSETFROM:+0000
TZOFFSETTO:+0000
TZNAME:UTC
DTSTART:20220101T000000
END:STANDARD
END:VTIMEZONE
BEGIN:VEVENT
DTSTART;TZID=UTC:20231130T120000
DTEND;TZID=UTC:20231130T130000
DTSTAMP:20260421T141200
CREATED:20231020T141601Z
LAST-MODIFIED:20240318T143343Z
UID:1156-1701345600-1701349200@documentdatabase.org
SUMMARY:JSON performance - PostgreSQL vs MongoDB
DESCRIPTION:Benchmarking JSON Performance in PostgreSQL vs MongoDB\n			\n				\n				\n				\n				\n				Umair Shahid\n			\n				\n				\n				\n				\n				Founder\,  Stormatics \n			\n			\n				\n				\n				\n				\n				\n			\n				\n				\n				\n				\n			\n				\n				\n				\n				\n				\n				\n				\n				\n				\n				\n				\n					\n					\n						45 min\n						\n					\n				\n			\n				\n				\n				\n				\n				\n					\n					\n						Online\n						\n					\n				\n			\n				Watch now\n			\n			\n				\n				\n				\n				\n			\n				\n				\n			\n				\n				\n				\n				\n				\n				\n				\n				\n				\n				\n				\n				\n				\n				\n				\n				\n				\n				MongoDB’s claim to fame is its exceptional ability to handle unstructured data and scale horizontally. PostgreSQL is a traditional relational database\, very popular with application developers\, and comes with increasing native ability to handle unstructured data. \n			\n				\n				\n				\n				\n				Umair Shahid\, a seasoned expert in PostgreSQL and Founder at Stormatics with over two decades of experience\, and Semab Tariq\, a skilled database developer at Stormatics\, did a great job benchmarking and comparing performance in handling JSON data between the two databases. \n			\n				\n				\n				\n				\n				Their comprehensive analysis provided a foundation for understanding the complexities of JSON data performance across MongoDB and PostgreSQL. The tests focused on four main aspects: \n\n			\n				\n				\n				\n				\n				\n				\n				\n					\n				\n				\n				\n				\n				^Data ingestion rates for bulk loading\n			\n				\n				\n				\n				\n				^Single inserts\n			\n				\n				\n				\n				\n				^Disk space utilization\n			\n				\n				\n				\n				\n				^Select query performance\n			\n				\n			\n				\n				\n				\n				\n				For developers and database administrators\, the nuanced performance differences revealed by the benchmarks emphasize the need to look beyond traditional assumptions about relational and non-relational databases\, focusing instead on empirical evidence and practical performance considerations. Learn more. \n\n			\n				\n				\n				\n				\n				The full webinar video is available exclusively for registered users. \n			\n			\n				\n				\n				\n				\n			\n				\n				\n				\n				\n				\n				\n				Watch now\n			\n			\n				\n				\n				\n				\n			\n				\n				\n			\n				\n				\n				\n				\n				\n				\n				\n				\n				\n				\n				\n				\n				\n				\n				\n				\n				\n				About the speaker\n			\n			\n				\n				\n				\n				\n			\n				\n				\n				\n				\n				\n				\n				\n				\n				\n				\n				\n			\n			\n				\n				\n				\n				\n				\n				\n				\n				\n				\n				Umair shahid\n			\n				\n				\n				\n				\n				Founder\, Stormatics \n			\n				\n				\n				\n				\n				Umair is a 20-year veteran of the PostgreSQL community with a passion for solving real-world problems with technology. He actively advocates for PostgreSQL around the world\, speaking at conferences\, organizing events\, and leading local user groups. Umair is the founder of Stormatics – a professional services company with a mission to help businesses use PostgreSQL reliably for their critical data workloads. His previous experience with commercial PostgreSQL has spanned roles related to professional services and product management in major pure-play PostgreSQL organizations like EDB\, 2ndQuadrant\, OpenSCG\, & Percona. \n			\n			\n				\n				\n				\n				\n			\n				\n				\n			\n				\n				\n				\n				\n				\n				\n				\n				\n				\n				\n				\n				\n				\n				\n				\n				\n				\n				\n			\n			\n				\n				\n				\n				\n				\n				\n				\n				\n				\n				Related Events\n			\n			\n				\n				\n				\n				\n				\n				\n				\n				\n				\n				\n			\n			\n				\n				\n				\n				\n			\n				\n				\n				\n				\n				\n				\n				\n				\n				\n				\n				There are no upcoming events at this time
URL:https://documentdatabase.org/event/json-performance-postgresql-vs-mongodb/
LOCATION:Online
ATTACH;FMTTYPE=image/png:https://documentdatabase.org/wp-content/uploads/2023/07/Speaker-DDC2.png
END:VEVENT
END:VCALENDAR